BEGIN:VCALENDAR
VERSION:2.0
PRODID:-//RIGHTHERE//CALENDARIZE IT V3.2//EN
BEGIN:VTIMEZONE
TZID:Pacific/Auckland
X-MICROSOFT-CDO-TZID:17
BEGIN:DAYLIGHT
DTSTART:20250927T140000
TZOFFSETFROM:+1200
TZOFFSETTO:+1300
TZNAME:NZDT
END:DAYLIGHT
BEGIN:STANDARD
DTSTART:20260404T140000
TZOFFSETFROM:+1300
TZOFFSETTO:+1200
TZNAME:NZST
END:STANDARD
BEGIN:DAYLIGHT
DTSTART:20260926T140000
TZOFFSETFROM:+1200
TZOFFSETTO:+1300
TZNAME:NZDT
END:DAYLIGHT
END:VTIMEZONE
BEGIN:VEVENT
UID:3275-events@www.obex.co.nz
DTSTART;VALUE=DATE:20170812
DTEND;VALUE=DATE:20170812
DTSTAMP;TZID=Pacific/Auckland:20170407T115816
SUMMARY:Ultrasound Guided PICC Insertion Workshop
URL:https://www.obex.co.nz/events/obex-medical-sonosite-workshop-save-the-d
 ate/
ORGANIZER;CN=Obex:MAILTO:sarah.jonson@obex.co.nz
LOCATION:303 Manukau Road\, Epsom\, Auckland
END:VEVENT
END:VCALENDAR