BEGIN:VCALENDAR
VERSION:2.0
PRODID:-//RIGHTHERE//CALENDARIZE IT V3.2//EN
BEGIN:VTIMEZONE
TZID:Pacific/Auckland
X-MICROSOFT-CDO-TZID:17
BEGIN:DAYLIGHT
DTSTART:20250927T140000
TZOFFSETFROM:+1200
TZOFFSETTO:+1300
TZNAME:NZDT
END:DAYLIGHT
BEGIN:STANDARD
DTSTART:20260404T140000
TZOFFSETFROM:+1300
TZOFFSETTO:+1200
TZNAME:NZST
END:STANDARD
BEGIN:DAYLIGHT
DTSTART:20260926T140000
TZOFFSETFROM:+1200
TZOFFSETTO:+1300
TZNAME:NZDT
END:DAYLIGHT
END:VTIMEZONE
BEGIN:VEVENT
UID:7746-events@www.obex.co.nz
DTSTART;VALUE=DATE:20220810
DTEND;VALUE=DATE:20220814
DTSTAMP;TZID=Pacific/Auckland:20211026T120846
SUMMARY:Perfusion Downunder Winter Meeting
URL:https://www.obex.co.nz/events/perfusion-downunder-winter-meeting/
LOCATION:Heritage Queenstown
END:VEVENT
END:VCALENDAR