BEGIN:VCALENDAR
VERSION:2.0
PRODID:-//RIGHTHERE//CALENDARIZE IT V3.2//EN
BEGIN:VTIMEZONE
TZID:Pacific/Auckland
X-MICROSOFT-CDO-TZID:17
BEGIN:DAYLIGHT
DTSTART:20250927T140000
TZOFFSETFROM:+1200
TZOFFSETTO:+1300
TZNAME:NZDT
END:DAYLIGHT
BEGIN:STANDARD
DTSTART:20260404T140000
TZOFFSETFROM:+1300
TZOFFSETTO:+1200
TZNAME:NZST
END:STANDARD
BEGIN:DAYLIGHT
DTSTART:20260926T140000
TZOFFSETFROM:+1200
TZOFFSETTO:+1300
TZNAME:NZDT
END:DAYLIGHT
END:VTIMEZONE
BEGIN:VEVENT
UID:9484-events@www.obex.co.nz
DTSTART;VALUE=DATE:20230519
DTEND;VALUE=DATE:20230524
DTSTAMP;TZID=Pacific/Auckland:20230301T134550
SUMMARY:2023 ALA Symposium
URL:https://www.obex.co.nz/events/2023-ala-symposium/
LOCATION:Cordis Hotel Auckland
END:VEVENT
END:VCALENDAR